BEGIN:VCALENDAR
VERSION:2.0
PRODID:-//Colmcille Climbers - ECPv5.14.2.1//NONSGML v1.0//EN
CALSCALE:GREGORIAN
METHOD:PUBLISH
X-WR-CALNAME:Colmcille Climbers
X-ORIGINAL-URL:https://colmcille-climbers.com
X-WR-CALDESC:Events for Colmcille Climbers
BEGIN:VTIMEZONE
TZID:UTC
BEGIN:STANDARD
TZOFFSETFROM:+0000
TZOFFSETTO:+0000
TZNAME:UTC
DTSTART:20240101T000000
END:STANDARD
END:VTIMEZONE
BEGIN:VEVENT
DTSTART;TZID=UTC:20241117T110000
DTEND;TZID=UTC:20241119T150000
DTSTAMP:20260421T181258
CREATED:20241119T171632Z
LAST-MODIFIED:20241119T171632Z
UID:16193-1731841200-1732028400@colmcille-climbers.com
SUMMARY:1955 route on Binnastooka\, Dunaff Head.
DESCRIPTION:Sunday November 17th. 1955 route on Binnastooka\, Dunaff Head. (3 pitch diff). Trainers might be better than rock shoes. Meet at Market House Clonmany for 11am start.
URL:https://colmcille-climbers.com/event/1955-route-on-binnastooka-dunaff-head/
CATEGORIES:CC Meet,Weekend Meet
ATTACH;FMTTYPE=image/jpeg:https://colmcille-climbers.com/wp-content/uploads/2024/11/Binastooka.jpg
END:VEVENT
END:VCALENDAR