BEGIN:VCALENDAR
VERSION:2.0
PRODID:-//Colmcille Climbers - ECPv5.14.2.1//NONSGML v1.0//EN
CALSCALE:GREGORIAN
METHOD:PUBLISH
X-WR-CALNAME:Colmcille Climbers
X-ORIGINAL-URL:https://colmcille-climbers.com
X-WR-CALDESC:Events for Colmcille Climbers
BEGIN:VTIMEZONE
TZID:UTC
BEGIN:STANDARD
TZOFFSETFROM:+0000
TZOFFSETTO:+0000
TZNAME:UTC
DTSTART:20240101T000000
END:STANDARD
END:VTIMEZONE
BEGIN:VEVENT
DTSTART;VALUE=DATE:20240809
DTEND;VALUE=DATE:20240812
DTSTAMP:20260421T092849
CREATED:20240730T154454Z
LAST-MODIFIED:20240730T154454Z
UID:16110-1723161600-1723420799@colmcille-climbers.com
SUMMARY:Aghill Beg Climb Weekend
DESCRIPTION:This will be an exploratory visit to Achill Beg on the weekend of August 9th\,10th\,11th.  The organiser is  club member Paddy O’Brien.  One climb was recorded\, a 3 pitch E1 led by Tom Ryan in the 90’s. The plan is to travel over to the island on Friday using a local with a rib and return on Sunday. On that weekend  there will be some entertainment as there is a local music festival  on the island between mid morning and late afternoon on Saturday\, two temporary inflatable pubs will be there. A local l has been very helpful recommending a place for camping and access to water. Everything else will have to be brought over. \nPlease let  club member Paddy O’Brien know if you are interested ( pjcobrien@yahoo.ie). He is travelling with Club member Frank Nugent.
URL:https://colmcille-climbers.com/event/aghill-beg-climb-weekend/
CATEGORIES:CC Meet,Weekend Meet
END:VEVENT
END:VCALENDAR