BEGIN:VCALENDAR
VERSION:2.0
PRODID:-//Colmcille Climbers - ECPv5.14.2.1//NONSGML v1.0//EN
CALSCALE:GREGORIAN
METHOD:PUBLISH
X-WR-CALNAME:Colmcille Climbers
X-ORIGINAL-URL:https://colmcille-climbers.com
X-WR-CALDESC:Events for Colmcille Climbers
BEGIN:VTIMEZONE
TZID:UTC
BEGIN:STANDARD
TZOFFSETFROM:+0000
TZOFFSETTO:+0000
TZNAME:UTC
DTSTART:20240101T000000
END:STANDARD
END:VTIMEZONE
BEGIN:VEVENT
DTSTART;TZID=UTC:20241026T063000
DTEND;TZID=UTC:20241026T213000
DTSTAMP:20260421T111847
CREATED:20240815T162821Z
LAST-MODIFIED:20240815T162821Z
UID:16119-1729924200-1729978200@colmcille-climbers.com
SUMMARY:AGM of the Colmcille Climbers Club
DESCRIPTION:The AGM for Club members will take place at 6pm on the 26th October at McGrorys Culdaff followed by a meal at 7.30. Please be prepared to pay the membership fees which will be agreed for the year 2024-2025.  Climbing beforehand weather permitting.
URL:https://colmcille-climbers.com/event/agm-of-the-colmcille-climbers-club/
CATEGORIES:CC Meet
END:VEVENT
END:VCALENDAR