BEGIN:VCALENDAR
VERSION:2.0
PRODID:-//Colmcille Climbers - ECPv5.14.2.1//NONSGML v1.0//EN
CALSCALE:GREGORIAN
METHOD:PUBLISH
X-WR-CALNAME:Colmcille Climbers
X-ORIGINAL-URL:https://colmcille-climbers.com
X-WR-CALDESC:Events for Colmcille Climbers
BEGIN:VTIMEZONE
TZID:UTC
BEGIN:STANDARD
TZOFFSETFROM:+0000
TZOFFSETTO:+0000
TZNAME:UTC
DTSTART:20240101T000000
END:STANDARD
END:VTIMEZONE
BEGIN:VEVENT
DTSTART;VALUE=DATE:20240608
DTEND;VALUE=DATE:20240610
DTSTAMP:20260421T125447
CREATED:20240423T210259Z
LAST-MODIFIED:20240423T210259Z
UID:16090-1717804800-1717977599@colmcille-climbers.com
SUMMARY:Bluestacks Belshade or Eglish
DESCRIPTION:This meet is pencilled in. To be updated.
URL:https://colmcille-climbers.com/event/bluestacks-belshade-or-eglish/
END:VEVENT
END:VCALENDAR