BEGIN:VCALENDAR
VERSION:2.0
PRODID:-//Colmcille Climbers - ECPv5.14.2.1//NONSGML v1.0//EN
CALSCALE:GREGORIAN
METHOD:PUBLISH
X-WR-CALNAME:Colmcille Climbers
X-ORIGINAL-URL:https://colmcille-climbers.com
X-WR-CALDESC:Events for Colmcille Climbers
BEGIN:VTIMEZONE
TZID:UTC
BEGIN:STANDARD
TZOFFSETFROM:+0000
TZOFFSETTO:+0000
TZNAME:UTC
DTSTART:20240101T000000
END:STANDARD
END:VTIMEZONE
BEGIN:VEVENT
DTSTART;TZID=UTC:20241122T190000
DTEND;TZID=UTC:20241122T190000
DTSTAMP:20260421T181543
CREATED:20241119T172343Z
LAST-MODIFIED:20241119T173832Z
UID:16196-1732302000-1732302000@colmcille-climbers.com
SUMMARY:Showcase of some old school Climbing Photos
DESCRIPTION:Friday 22nd November 7pm Showcase of some old school Climbing Photos. Invite from Belfast Climbing Club. Venue is Ballnafeigh Community Development Centre\, 283 Ormeau Rd \,BT7 3GG.   
URL:https://colmcille-climbers.com/event/showcase-of-some-old-school-climbing-photos/
ATTACH;FMTTYPE=image/jpeg:https://colmcille-climbers.com/wp-content/uploads/2024/11/BCCNov27-2024-1.jpg
END:VEVENT
END:VCALENDAR